BEGIN:VCALENDAR
VERSION:2.0
PRODID:-//CHAMBER DASHBOARD//EVENTS CALENDAR2.0//EN
CALSCALE:GREGORIAN
BEGIN:VEVENT
DTEND:20191202T003000Z
UID:69e5eb80d091a
DTSTAMP:20260420T090152Z
LOCATION:Senator Bob Martin Eastern Agricultural Center 
DESCRIPTION:
URL;VALUE=URI:https://www.martinncchamber.com/event/nbha-coastal-run-super-show/
SUMMARY:NBHA Coastal Run Super Show
DTSTART:20191130T003000Z
END:VEVENT
END:VCALENDAR
